BEGIN:VCALENDAR
VERSION:2.0
METHOD:PUBLISH
PRODID:Data::ICal 0.22
BEGIN:VEVENT
DESCRIPTION:Die Altstadt wird zur Schlemmermeile
DTEND:20260426T150000Z
DTSTAMP:19971210T080000Z
DTSTART:20260426T080000Z
LOCATION:Altstädter Markt\, 63450 Hanau\, Innenstadt
ORGANIZER:Altstädter Markt
SEQUENCE:0
STATUS:CONFIRMED
SUMMARY:Bauern- und Schlemmermarkt
TRANSP:OPAQUE
UID:/2/208/209/576/1809062026/04/26
URL:https://www.hanau.de/hanau.de/freizeit/veranstaltungskalender/veranstal
 tungen/180906_termin.ics
END:VEVENT
END:VCALENDAR
